BEGIN:VCALENDAR
VERSION:2.0
PRODID:-//wp-events-plugin.com//7.2.3.1//EN
TZID:America/Los_Angeles
X-WR-TIMEZONE:America/Los_Angeles
BEGIN:VEVENT
UID:1377@cocsd.com
DTSTART;TZID=America/Los_Angeles:20260509T170000
DTEND;TZID=America/Los_Angeles:20260509T234500
DTSTAMP:20260414T004538Z
URL:https://cocsd.com/events/cinco-de-mayo-party-4/
SUMMARY:Cinco de Mayo Party 
DESCRIPTION:When signing up add the type of dish you are bring next to your
  name\nMain Dish - Appetizer - Sides - Dessert\n\n[button link="https://co
 csd.com/sheet/cinco-de-mayo-potluck-party/" type="big"] Click here to sign
  up[/button]\n Cinco de Mayo Party\nWHEN:             Saturda
 y\, May 9\, 2026            \nWHERE:         At the home of
 :\n                                 Sue and Steve Royce\n
                                  13986 Barrymore St.\n  
                                San Diego\, CA 92129\n\n\nT
 IME:               Begins at 5:00 p.m. We’ll party until w
 e’re done!\n\nBRING:             Please bring a main dish\, 
 side dish\, or appetizer to share. Margaritas and Cervesa\nare on the hous
 e!\n\nWHO:              Sue and Steve Royce         6
 19-840-9095 Sue          619-857-2195 Steve\nsueroyce@me.com  
       steveroyce1@gmail.com\n\nDIRECTIONS:      From I 5 north o
 r south – Take the 56-exit east. Go 7.4 miles to Black Mountain Road (ex
 it 7). Take the exit and turn left at the light. Follow Black Mountain abo
 ut 1.2 miles to Oviedo Street (traffic light). Turn left. Make the 2nd rig
 ht (about 800 ft.) onto Barrymore St. The house is a blue single-story on 
 the left at the bottom of the hill (third house before the stop sign).\n\n
 From I 15 north or south – Take the Poway Rd/Rancho Penasquitos Rd. exit
  and head west. After a bit\, the road name changes to Carmel Mountain Roa
 d. Continue west past the high school to Black Mountain Rd. and turn right
 . Follow Black Mountain Rd. to Oviedo St (traffic light). Turn left. Make 
 the 2nd right (about 800 ft.) onto Barrymore St. The house is a blue singl
 e-story on the left at the bottom of the hill (third house before the stop
  sign).\n\nPark on Barrymore if available. More parking should be availabl
 e if you turn left at the stop sign onto Rotherham St. Turning right on Ro
 therham leads into a cul-de-sac with limited parking.  Our neighbors woul
 d love if everyone drove their Vette!\n\nClick on Flyer to Download or Pri
 nt\n\n
ATTACH;FMTTYPE=image/jpeg:https://cocsd.com/wp-content/uploads/2026/04/cin
 co.webp
CATEGORIES:COCSD Events
END:VEVENT
BEGIN:VTIMEZONE
TZID:America/Los_Angeles
X-LIC-LOCATION:America/Los_Angeles
BEGIN:DAYLIGHT
DTSTART:20260308T030000
TZOFFSETFROM:-0800
TZOFFSETTO:-0700
TZNAME:PDT
END:DAYLIGHT
END:VTIMEZONE
END:VCALENDAR