BEGIN:VCALENDAR
VERSION:2.0
PRODID:-//wp-events-plugin.com//7.2.3.1//EN
TZID:America/Los_Angeles
X-WR-TIMEZONE:America/Los_Angeles
BEGIN:VEVENT
UID:1327@cocsd.com
DTSTART;TZID=America/Los_Angeles:20261202T113000
DTEND;TZID=America/Los_Angeles:20261202T133000
DTSTAMP:20260113T215528Z
URL:https://cocsd.com/events/cocsd-bod-meetings-47/
SUMMARY:COCSD BOD Meetings 
DESCRIPTION:Location\nMarie Callendar's Restaurant &amp\; Bakery\n\nDate/Ti
 me\nDate(s) – 12/02/2026\n11:30 AM\n\nLocation\nMarie Callendar’s Rest
 aurant &amp\; Bakery\n\nOur BOD December. 02\, 2026\, Board meeting will b
 e at Marie Callendar’s Restaurant &amp\; Bakery\, (Garden Room) 6950 Alv
 arado Rd. San Diego\, CA 92120. Come early if you want to order something 
 to eat.\n\n&nbsp\;
ATTACH;FMTTYPE=image/jpeg:https://cocsd.com/wp-content/uploads/2025/12/mar
 ie-callender-s.webp
CATEGORIES:BOD or General Meeting
LOCATION:Marie Callendar's Restaurant & Bakery\, 6950 Alvarado Rd.\, San Di
 ego\, CA\, 92120\, United States
GEO:32.774412;-117.048299
X-APPLE-STRUCTURED-LOCATION;VALUE=URI;X-ADDRESS=6950 Alvarado Rd.\, San Die
 go\, CA\, 92120\, United States;X-APPLE-RADIUS=100;X-TITLE=Marie Callendar
 's Restaurant & Bakery:geo:32.774412,-117.048299
END:VEVENT
BEGIN:VTIMEZONE
TZID:America/Los_Angeles
X-LIC-LOCATION:America/Los_Angeles
BEGIN:STANDARD
DTSTART:20261101T010000
TZOFFSETFROM:-0700
TZOFFSETTO:-0800
TZNAME:PST
END:STANDARD
END:VTIMEZONE
END:VCALENDAR