BEGIN:VCALENDAR
VERSION:2.0
PRODID:-//wp-events-plugin.com//7.2.3.1//EN
TZID:America/Los_Angeles
X-WR-TIMEZONE:America/Los_Angeles
BEGIN:VEVENT
UID:1335@cocsd.com
DTSTART;TZID=America/Los_Angeles:20260814T183000
DTEND;TZID=America/Los_Angeles:20260814T203000
DTSTAMP:20260113T232407Z
URL:https://cocsd.com/events/cocsd-general-meeting-43/
SUMMARY:COCSD General Meeting 
DESCRIPTION:Our regular meeting will be at Elijah’s on Aug.\,14 We will h
 ave the room at 5:30 for those who wish to visit with one another and have
  dinner.\nTopic: COCSD Aug\, 14\, 2026 General Membership Meeting\nTime: 
 6:30 PM Pacific Time\n
ATTACH;FMTTYPE=image/jpeg:https://cocsd.com/wp-content/uploads/2020/11/Eli
 jahs.jpg
CATEGORIES:BOD or General Meeting
LOCATION:Elijah\\'s Restaurant\, Deli\, 7061 Clairemont Mesa Blvd\, San Die
 go\, CA\, 92111\, United States
GEO:32.831551;-117.165421
X-APPLE-STRUCTURED-LOCATION;VALUE=URI;X-ADDRESS=7061 Clairemont Mesa Blvd\,
  San Diego\, CA\, 92111\, United States;X-APPLE-RADIUS=100;X-TITLE=Elijah\
 \'s Restaurant\, Deli:geo:32.831551,-117.165421
END:VEVENT
BEGIN:VTIMEZONE
TZID:America/Los_Angeles
X-LIC-LOCATION:America/Los_Angeles
BEGIN:DAYLIGHT
DTSTART:20260308T030000
TZOFFSETFROM:-0800
TZOFFSETTO:-0700
TZNAME:PDT
END:DAYLIGHT
END:VTIMEZONE
END:VCALENDAR