BEGIN:VCALENDAR
VERSION:2.0
PRODID:-//wp-events-plugin.com//7.2.3.1//EN
TZID:America/Los_Angeles
X-WR-TIMEZONE:America/Los_Angeles
BEGIN:VEVENT
UID:1338@cocsd.com
DTSTART;TZID=America/Los_Angeles:20261211T183000
DTEND;TZID=America/Los_Angeles:20261211T203000
DTSTAMP:20260113T231323Z
URL:https://cocsd.com/events/cocsd-general-meeting-46/
SUMMARY:COCSD General Meeting 
DESCRIPTION:Our regular meeting will be at Elijah’s on December\, 11 We w
 ill have the room at 5:30 for those who wish to visit with one another and
  have dinner.\nTopic: COCSD December\, 11\, 2026 General Membership Meeti
 ng\nTime: 6:30 PM Pacific Time\n
ATTACH;FMTTYPE=image/jpeg:https://cocsd.com/wp-content/uploads/2020/11/Eli
 jahs.jpg
CATEGORIES:BOD or General Meeting
LOCATION:Elijah\\'s Restaurant\, Deli\, 7061 Clairemont Mesa Blvd\, San Die
 go\, CA\, 92111\, United States
GEO:32.831551;-117.165421
X-APPLE-STRUCTURED-LOCATION;VALUE=URI;X-ADDRESS=7061 Clairemont Mesa Blvd\,
  San Diego\, CA\, 92111\, United States;X-APPLE-RADIUS=100;X-TITLE=Elijah\
 \'s Restaurant\, Deli:geo:32.831551,-117.165421
END:VEVENT
BEGIN:VTIMEZONE
TZID:America/Los_Angeles
X-LIC-LOCATION:America/Los_Angeles
BEGIN:STANDARD
DTSTART:20261101T010000
TZOFFSETFROM:-0700
TZOFFSETTO:-0800
TZNAME:PST
END:STANDARD
END:VTIMEZONE
END:VCALENDAR