BEGIN:VCALENDAR
VERSION:2.0
PRODID:-//wp-events-plugin.com//7.2.3.1//EN
TZID:America/Los_Angeles
X-WR-TIMEZONE:America/Los_Angeles
BEGIN:VEVENT
UID:1363@cocsd.com
DTSTART;TZID=America/Los_Angeles;VALUE=DATE:20261201
DTEND;TZID=America/Los_Angeles;VALUE=DATE:20261202
DTSTAMP:20260115T222004Z
URL:https://cocsd.com/events/cocsd-holiday-party-2/
SUMMARY:COCSD Holiday Party 
DESCRIPTION:December ???\n\n COCSD Holiday Party\n\nMore information to co
 me later
CATEGORIES:COCSD Events
END:VEVENT
BEGIN:VTIMEZONE
TZID:America/Los_Angeles
X-LIC-LOCATION:America/Los_Angeles
BEGIN:STANDARD
DTSTART:20261101T010000
TZOFFSETFROM:-0700
TZOFFSETTO:-0800
TZNAME:PST
END:STANDARD
END:VTIMEZONE
END:VCALENDAR