BEGIN:VCALENDAR
VERSION:2.0
PRODID:-//wp-events-plugin.com//7.2.3.1//EN
TZID:America/Los_Angeles
X-WR-TIMEZONE:America/Los_Angeles
BEGIN:VEVENT
UID:1353@cocsd.com
DTSTART;TZID=America/Los_Angeles;VALUE=DATE:20260627
DTEND;TZID=America/Los_Angeles;VALUE=DATE:20260628
DTSTAMP:20260218T230855Z
URL:https://cocsd.com/events/cocsd-night-at-the-movies-f1/
SUMMARY:COCSD night at the Movies – F1 
DESCRIPTION:Friday June 27th - COCSD night at the Movies – F1\n\nHosted b
 y Craig Moya\n\nMore information to come later
ATTACH;FMTTYPE=image/jpeg:https://cocsd.com/wp-content/uploads/2026/02/F1.
 webp
CATEGORIES:COCSD Events
END:VEVENT
BEGIN:VTIMEZONE
TZID:America/Los_Angeles
X-LIC-LOCATION:America/Los_Angeles
BEGIN:DAYLIGHT
DTSTART:20260308T030000
TZOFFSETFROM:-0800
TZOFFSETTO:-0700
TZNAME:PDT
END:DAYLIGHT
END:VTIMEZONE
END:VCALENDAR