BEGIN:VCALENDAR
VERSION:2.0
PRODID:-//wp-events-plugin.com//7.2.3.1//EN
TZID:America/Los_Angeles
X-WR-TIMEZONE:America/Los_Angeles
BEGIN:VEVENT
UID:1358@cocsd.com
DTSTART;TZID=America/Los_Angeles;VALUE=DATE:20260912
DTEND;TZID=America/Los_Angeles;VALUE=DATE:20260913
DTSTAMP:20260115T220515Z
URL:https://cocsd.com/events/end-of-summer-run/
SUMMARY:End of Summer Run 
DESCRIPTION:Wednesday September 12th - End of Summer Run\n\n       
      Hosted by Bob Bearss\n\nMore information to come later
CATEGORIES:COCSD Events
END:VEVENT
BEGIN:VTIMEZONE
TZID:America/Los_Angeles
X-LIC-LOCATION:America/Los_Angeles
BEGIN:DAYLIGHT
DTSTART:20260308T030000
TZOFFSETFROM:-0800
TZOFFSETTO:-0700
TZNAME:PDT
END:DAYLIGHT
END:VTIMEZONE
END:VCALENDAR