BEGIN:VCALENDAR
VERSION:2.0
PRODID:-//wp-events-plugin.com//7.2.3.1//EN
TZID:America/Los_Angeles
X-WR-TIMEZONE:America/Los_Angeles
BEGIN:VEVENT
UID:1113@cocsd.com
DTSTART;TZID=America/Los_Angeles:20231209T081500
DTEND;TZID=America/Los_Angeles:20231209T110000
DTSTAMP:20231205T045007Z
URL:https://cocsd.com/events/escondido-jaycees-christmas-parade/
SUMMARY:Escondido Jaycees Christmas Parade  
DESCRIPTION:Escondido Jaycees Christmas Parade \n\nSaturday December 9TH 
 \n\nMeet up at the Park and Ride \n\n875 N. Broadway\, Escondido at 8:15 
 am \n\nWe need 6-7 cars \n\nParade starts @ 10:00 am \n\nCorvette rides
  for the Miss Coastal Cities group. \n\nParade staging area is at the Cen
 ter for the Arts \n\n240 Woodward Ave\, Escondido \n\nBrian Bowman: 619-
 937-1771 \n\nSign Up Here
CATEGORIES:COCSD Events
LOCATION:Center for the Arts\, 240 Woodward Ave\, Escondido \, Escondido\,
  CA\, 92025\, United States
GEO:33.124879;-117.086436
X-APPLE-STRUCTURED-LOCATION;VALUE=URI;X-ADDRESS=240 Woodward Ave\, Escondid
 o \, Escondido\, CA\, 92025\, United States;X-APPLE-RADIUS=100;X-TITLE=Ce
 nter for the Arts:geo:33.124879,-117.086436
END:VEVENT
BEGIN:VTIMEZONE
TZID:America/Los_Angeles
X-LIC-LOCATION:America/Los_Angeles
BEGIN:STANDARD
DTSTART:20231105T010000
TZOFFSETFROM:-0700
TZOFFSETTO:-0800
TZNAME:PST
END:STANDARD
END:VTIMEZONE
END:VCALENDAR