BEGIN:VCALENDAR
VERSION:2.0
PRODID:-//wp-events-plugin.com//7.2.3.1//EN
TZID:America/Los_Angeles
X-WR-TIMEZONE:America/Los_Angeles
BEGIN:VEVENT
UID:1371@cocsd.com
DTSTART;TZID=America/Los_Angeles:20260508T183000
DTEND;TZID=America/Los_Angeles:20260508T203000
DTSTAMP:20260310T165917Z
URL:https://cocsd.com/events/guest-speaker-april-10-2026/
SUMMARY:Guest Speaker May 8\, 2026 
DESCRIPTION:May 8\, 2026 - Courtesy Chevrolet - Marty Meador\, GM (Host: Pe
 nn Hulburd)
ATTACH;FMTTYPE=image/jpeg:https://cocsd.com/wp-content/uploads/2026/03/COC
 SD-Courtesy-Chevrolet-Pic1.webp
CATEGORIES:BOD or General Meeting
LOCATION:Elijah\\'s Restaurant\, Deli\, 7061 Clairemont Mesa Blvd\, San Die
 go\, CA\, 92111\, United States
GEO:32.831551;-117.165421
X-APPLE-STRUCTURED-LOCATION;VALUE=URI;X-ADDRESS=7061 Clairemont Mesa Blvd\,
  San Diego\, CA\, 92111\, United States;X-APPLE-RADIUS=100;X-TITLE=Elijah\
 \'s Restaurant\, Deli:geo:32.831551,-117.165421
END:VEVENT
BEGIN:VTIMEZONE
TZID:America/Los_Angeles
X-LIC-LOCATION:America/Los_Angeles
BEGIN:DAYLIGHT
DTSTART:20260308T030000
TZOFFSETFROM:-0800
TZOFFSETTO:-0700
TZNAME:PDT
END:DAYLIGHT
END:VTIMEZONE
END:VCALENDAR