BEGIN:VCALENDAR
VERSION:2.0
PRODID:-//wp-events-plugin.com//7.2.3.1//EN
TZID:America/Los_Angeles
X-WR-TIMEZONE:America/Los_Angeles
BEGIN:VEVENT
UID:1373@cocsd.com
DTSTART;TZID=America/Los_Angeles:20260612T183000
DTEND;TZID=America/Los_Angeles:20260612T203000
DTSTAMP:20260227T030144Z
URL:https://cocsd.com/events/guest-speaker-june-12th/
SUMMARY:Guest Speaker June 12th 
DESCRIPTION:"Special Guest Speaker - Officer Kerri Rivas\, CHP\nSpecial pre
 sentation about her work in Human Trafficking and Undercover Operations wi
 th the California Highway patrol. (Host John Garapich)."\n\n\n\n
ATTACH;FMTTYPE=image/jpeg:https://cocsd.com/wp-content/uploads/2026/02/COC
 SD-CHP-Image1.webp
CATEGORIES:BOD or General Meeting
END:VEVENT
BEGIN:VTIMEZONE
TZID:America/Los_Angeles
X-LIC-LOCATION:America/Los_Angeles
BEGIN:DAYLIGHT
DTSTART:20260308T030000
TZOFFSETFROM:-0800
TZOFFSETTO:-0700
TZNAME:PDT
END:DAYLIGHT
END:VTIMEZONE
END:VCALENDAR