BEGIN:VCALENDAR
VERSION:2.0
PRODID:-//wp-events-plugin.com//7.2.3.1//EN
TZID:America/Los_Angeles
X-WR-TIMEZONE:America/Los_Angeles
BEGIN:VEVENT
UID:1349@cocsd.com
DTSTART;TZID=America/Los_Angeles:20260516T080000
DTEND;TZID=America/Los_Angeles:20260516T130000
DTSTAMP:20260414T221859Z
URL:https://cocsd.com/events/kiwanis-club-patriots-day-parade/
SUMMARY:Kiwanis Club Patriots Day Parade 
DESCRIPTION:Saturday May 16th - Kiwanis Club Patriots Day Parade\n[button l
 ink="https://cocsd.com/sheet/kiwanis-club-tierrasanta-patriots-parade-2/" 
 type="big" color="red"] Sign Up here need 6 cars[/button]\n\n\nName of eve
 nt :   Kiwanis Club Tierrasanta Patriots Parade\nDay and Date :     S
 aturday 05/16/2026\n\nTime of event:         8:45 am – 1:00 pm\n
 Meet up location :  Meet at 8:00 am Vons shopping center\n10460 Clairemon
 t Mesa Blvd\, San Diego\, CA 92124\n\n\nEvent Address Location :    Para
 de assembly location\nCanyon Hills High School\n Address of Event: 5156 S
 anto Rd\, San Diego\, CA 92124\n\n\nStart Time of Event:  Parade assembly
  begins 8:45 to 9:00 Parade Start time 10:00\nHosted by:  Sam Lewis    
 619-301-6023      samvet@aol.com\n\nClick on Flyer to Download or Print
 \n\n\n\n&nbsp\;\n\n&nbsp\;\n\n&nbsp\;\n\n&nbsp\;\n\n&nbsp\;\n\n&nbsp\;\n\n
 &nbsp\;\n\n&nbsp\;\n\n&nbsp\;\n\n&nbsp\;\n\n&nbsp\;\n\n&nbsp\;\n\n&nbsp\;\
 n\n                 \n\n&nbsp\;
ATTACH;FMTTYPE=image/jpeg:https://cocsd.com/wp-content/uploads/2026/04/Pic
 ture4.webp
CATEGORIES:COCSD Events
END:VEVENT
BEGIN:VTIMEZONE
TZID:America/Los_Angeles
X-LIC-LOCATION:America/Los_Angeles
BEGIN:DAYLIGHT
DTSTART:20260308T030000
TZOFFSETFROM:-0800
TZOFFSETTO:-0700
TZNAME:PDT
END:DAYLIGHT
END:VTIMEZONE
END:VCALENDAR