BEGIN:VCALENDAR
VERSION:2.0
PRODID:-//wp-events-plugin.com//7.2.3.1//EN
TZID:America/Los_Angeles
X-WR-TIMEZONE:America/Los_Angeles
BEGIN:VEVENT
UID:1362@cocsd.com
DTSTART;TZID=America/Los_Angeles:20261206T133000
DTEND;TZID=America/Los_Angeles:20261206T133000
DTSTAMP:20260115T221458Z
URL:https://cocsd.com/events/la-jolla-parade/
SUMMARY:La Jolla Parade 
DESCRIPTION:Sunday December 8th - ???\n\nLa Jolla Parade 1:30 pm\n\nHosted 
 by Bob Bearss\n\nMore information to come later
CATEGORIES:COCSD Events
END:VEVENT
BEGIN:VTIMEZONE
TZID:America/Los_Angeles
X-LIC-LOCATION:America/Los_Angeles
BEGIN:STANDARD
DTSTART:20261101T010000
TZOFFSETFROM:-0700
TZOFFSETTO:-0800
TZNAME:PST
END:STANDARD
END:VTIMEZONE
END:VCALENDAR