BEGIN:VCALENDAR
VERSION:2.0
PRODID:-//wp-events-plugin.com//7.2.3.1//EN
TZID:America/Los_Angeles
X-WR-TIMEZONE:America/Los_Angeles
BEGIN:VEVENT
UID:1346@cocsd.com
DTSTART;TZID=America/Los_Angeles:20260425T083000
DTEND;TZID=America/Los_Angeles:20260425T130000
DTSTAMP:20260414T221209Z
URL:https://cocsd.com/events/linda-vista-multicultural-parade-2/
SUMMARY:Linda Vista Multicultural Parade 
DESCRIPTION:Saturday April 25 –  Linda Vista Multicultural Parade\n\nNam
 e of event :     Linda Vista Multicultural Parade\nDay and Date :    
    Saturday 04/25/2026\n\n[button link="https://cocsd.com/sheet/linda-vi
 sta-multicultural-parade-2/" type="big"] Sign up here need 6 cars[/button]
 \nTime of event :         8:30 am – 1:00 pm\nMeet up location : 
  American Legion\n7245 Linda Vista Rd\, San Diego\, CA 92111\nEvent Addre
 ss Location :   6900 Block Linda Vista Rd\, San Diego\n6900 Linda Vista 
 Blvd\n\n\n\n\n\n\nAddress of Event:\nStart Time of Event:   Parade start
 s:   10:00 am\nHosted by:  Bob Bearss  619-629-3762\n\n&nbsp\;\n\nClic
 k on flyer to Download or Print\n\n\n\n\n&nbsp\;\n\n&nbsp\;\n\n&nbsp\;\n\n
 &nbsp\;\n\n                      \n\n&nbsp\;
ATTACH;FMTTYPE=image/jpeg:https://cocsd.com/wp-content/uploads/2026/04/lin
 da-vista.webp
CATEGORIES:COCSD Events
END:VEVENT
BEGIN:VTIMEZONE
TZID:America/Los_Angeles
X-LIC-LOCATION:America/Los_Angeles
BEGIN:DAYLIGHT
DTSTART:20260308T030000
TZOFFSETFROM:-0800
TZOFFSETTO:-0700
TZNAME:PDT
END:DAYLIGHT
END:VTIMEZONE
END:VCALENDAR