BEGIN:VCALENDAR
VERSION:2.0
PRODID:-//wp-events-plugin.com//7.2.3.1//EN
TZID:America/Los_Angeles
X-WR-TIMEZONE:America/Los_Angeles
BEGIN:VEVENT
UID:1376@cocsd.com
DTSTART;TZID=America/Los_Angeles:20260607T080000
DTEND;TZID=America/Los_Angeles:20260607T160000
DTSTAMP:20260312T155000Z
URL:https://cocsd.com/events/main-street-america/
SUMMARY:Main Street America 
DESCRIPTION:COCSD presents the Main Street America Car show annually as a f
 undraiser to help support our charity “San Diego Center for the Blind”
 . The Center for the Blind receives no government or local city funding of
  any kind. They rely solely on outside sources for all of their funding. M
 ain Street America Car Show is one of the largest on the West Coast. The s
 how includes every type of car\, including pre-war classics\, Porsche\, Co
 rvette\, T-Birds\, Hot Rod’s\, Resto Mods\, Ferrari\, Lamborghini\, Low 
 Riders\, Trucks\, etc. We actively support Main Street America Donors with
  recognition at our monthly meetings\, using your logo on promotional mate
 rial and on our website for 1 year. We are one of the oldest Corvette club
 s in the world\, continuously operating since 1958.\n\nOnly $55 to registe
 r and show your car!\nFree for attendees\nSponsorships start at $250\n\nRe
 ad More and Register on the MSA - Main Street page: https://cocsd.com/msa/
ATTACH;FMTTYPE=image/jpeg:https://cocsd.com/wp-content/uploads/2025/12/MSA
 .webp
CATEGORIES:COCSD Events,Special Events
END:VEVENT
BEGIN:VTIMEZONE
TZID:America/Los_Angeles
X-LIC-LOCATION:America/Los_Angeles
BEGIN:DAYLIGHT
DTSTART:20260308T030000
TZOFFSETFROM:-0800
TZOFFSETTO:-0700
TZNAME:PDT
END:DAYLIGHT
END:VTIMEZONE
END:VCALENDAR