BEGIN:VCALENDAR
VERSION:2.0
PRODID:-//wp-events-plugin.com//7.2.3.1//EN
TZID:America/Los_Angeles
X-WR-TIMEZONE:America/Los_Angeles
BEGIN:VEVENT
UID:1355@cocsd.com
DTSTART;TZID=America/Los_Angeles;VALUE=DATE:20260808
DTEND;TZID=America/Los_Angeles;VALUE=DATE:20260809
DTSTAMP:20260115T215903Z
URL:https://cocsd.com/events/mid-summer-run-2/
SUMMARY:Mid-Summer Run 
DESCRIPTION:Saturday August 8th\n\nMid-Summer Run\n\nHosted by: Bob Bearss\
 n\nMore information to come later
CATEGORIES:COCSD Events
END:VEVENT
BEGIN:VTIMEZONE
TZID:America/Los_Angeles
X-LIC-LOCATION:America/Los_Angeles
BEGIN:DAYLIGHT
DTSTART:20260308T030000
TZOFFSETFROM:-0800
TZOFFSETTO:-0700
TZNAME:PDT
END:DAYLIGHT
END:VTIMEZONE
END:VCALENDAR