BEGIN:VCALENDAR
VERSION:2.0
PRODID:-//wp-events-plugin.com//7.2.3.1//EN
TZID:America/Los_Angeles
X-WR-TIMEZONE:America/Los_Angeles
BEGIN:VEVENT
UID:1354@cocsd.com
DTSTART;TZID=America/Los_Angeles;VALUE=DATE:20260620
DTEND;TZID=America/Los_Angeles;VALUE=DATE:20260622
DTSTAMP:20260218T230032Z
URL:https://cocsd.com/events/nascar-event/
SUMMARY:NASCAR Event 
DESCRIPTION:Saturday June 20 and 21 – NASCAR Event
ATTACH;FMTTYPE=image/jpeg:https://cocsd.com/wp-content/uploads/2025/11/nas
 car_race.jpg
CATEGORIES:COCSD Events
END:VEVENT
BEGIN:VTIMEZONE
TZID:America/Los_Angeles
X-LIC-LOCATION:America/Los_Angeles
BEGIN:DAYLIGHT
DTSTART:20260308T030000
TZOFFSETFROM:-0800
TZOFFSETTO:-0700
TZNAME:PDT
END:DAYLIGHT
END:VTIMEZONE
END:VCALENDAR