BEGIN:VCALENDAR
VERSION:2.0
PRODID:-//wp-events-plugin.com//7.2.3.1//EN
TZID:America/Los_Angeles
X-WR-TIMEZONE:America/Los_Angeles
BEGIN:VEVENT
UID:1361@cocsd.com
DTSTART;TZID=America/Los_Angeles;VALUE=DATE:20261205
DTEND;TZID=America/Los_Angeles;VALUE=DATE:20261206
DTSTAMP:20260115T221101Z
URL:https://cocsd.com/events/ocean-beach-parade/
SUMMARY:Ocean Beach Parade 
DESCRIPTION:Saturday December 5th - ???\n\nOcean Beach Parade 4:00 pm\n\nHo
 sted by Bob Bearss\n\nMore information to come later
CATEGORIES:COCSD Events
END:VEVENT
BEGIN:VTIMEZONE
TZID:America/Los_Angeles
X-LIC-LOCATION:America/Los_Angeles
BEGIN:STANDARD
DTSTART:20261101T010000
TZOFFSETFROM:-0700
TZOFFSETTO:-0800
TZNAME:PST
END:STANDARD
END:VTIMEZONE
END:VCALENDAR