BEGIN:VCALENDAR
VERSION:2.0
PRODID:-//wp-events-plugin.com//7.2.3.1//EN
TZID:America/Los_Angeles
X-WR-TIMEZONE:America/Los_Angeles
BEGIN:VEVENT
UID:1348@cocsd.com
DTSTART;TZID=America/Los_Angeles:20260516T080000
DTEND;TZID=America/Los_Angeles:20260516T150000
DTSTAMP:20260218T225545Z
URL:https://cocsd.com/events/pancake-breakfast-run/
SUMMARY:Pancake Breakfast Run 
DESCRIPTION:Saturday May 16 – Pancake Breakfast Run\n\n Hosted by – Gl
 en Honig
ATTACH;FMTTYPE=image/jpeg:https://cocsd.com/wp-content/uploads/2025/03/pan
 cakes.jpg
CATEGORIES:COCSD Events
END:VEVENT
BEGIN:VTIMEZONE
TZID:America/Los_Angeles
X-LIC-LOCATION:America/Los_Angeles
BEGIN:DAYLIGHT
DTSTART:20260308T030000
TZOFFSETFROM:-0800
TZOFFSETTO:-0700
TZNAME:PDT
END:DAYLIGHT
END:VTIMEZONE
END:VCALENDAR