BEGIN:VCALENDAR
VERSION:2.0
PRODID:-//wp-events-plugin.com//7.2.3.1//EN
TZID:America/Los_Angeles
X-WR-TIMEZONE:America/Los_Angeles
BEGIN:VEVENT
UID:1357@cocsd.com
DTSTART;TZID=America/Los_Angeles;VALUE=DATE:20260904
DTEND;TZID=America/Los_Angeles;VALUE=DATE:20260907
DTSTAMP:20260310T173748Z
URL:https://cocsd.com/events/san-diego-auto-museum-event/
SUMMARY:San Diego Auto Museum Event 
DESCRIPTION:September 4.5.6th  San Diego Auto Musuem Event\n\nMore informa
 tion to come later
ATTACH;FMTTYPE=image/jpeg:https://cocsd.com/wp-content/uploads/2026/03/202
 6-03-10_10-34-27.webp
CATEGORIES:COCSD Events
END:VEVENT
BEGIN:VTIMEZONE
TZID:America/Los_Angeles
X-LIC-LOCATION:America/Los_Angeles
BEGIN:DAYLIGHT
DTSTART:20260308T030000
TZOFFSETFROM:-0800
TZOFFSETTO:-0700
TZNAME:PDT
END:DAYLIGHT
END:VTIMEZONE
END:VCALENDAR