BEGIN:VCALENDAR
VERSION:2.0
PRODID:-//wp-events-plugin.com//7.2.3.1//EN
TZID:America/Los_Angeles
X-WR-TIMEZONE:America/Los_Angeles
BEGIN:VEVENT
UID:1352@cocsd.com
DTSTART;TZID=America/Los_Angeles;VALUE=DATE:20260606
DTEND;TZID=America/Los_Angeles;VALUE=DATE:20260607
DTSTAMP:20260115T215106Z
URL:https://cocsd.com/events/shore-to-peaks-run/
SUMMARY:Shore to Peaks Run 
DESCRIPTION:Saturday June 6th – Shore to Peaks Run\n\n            
   Hosted by Glen Honig\n\nMore information to come later
CATEGORIES:COCSD Events
END:VEVENT
BEGIN:VTIMEZONE
TZID:America/Los_Angeles
X-LIC-LOCATION:America/Los_Angeles
BEGIN:DAYLIGHT
DTSTART:20260308T030000
TZOFFSETFROM:-0800
TZOFFSETTO:-0700
TZNAME:PDT
END:DAYLIGHT
END:VTIMEZONE
END:VCALENDAR