BEGIN:VCALENDAR
VERSION:2.0
PRODID:-//wp-events-plugin.com//7.2.3.1//EN
TZID:America/Los_Angeles
X-WR-TIMEZONE:America/Los_Angeles
BEGIN:VEVENT
UID:1359@cocsd.com
DTSTART;TZID=America/Los_Angeles;VALUE=DATE:20260919
DTEND;TZID=America/Los_Angeles;VALUE=DATE:20260920
DTSTAMP:20260115T220708Z
URL:https://cocsd.com/events/sun-rise-over-the-desert/
SUMMARY:Sun Rise Over the Desert 
DESCRIPTION:Saturday September 19th – Sun Rise Over the Desert\n\n   
              Hosted by Glen Honig\n\nMore information to come 
 later
CATEGORIES:COCSD Events
END:VEVENT
BEGIN:VTIMEZONE
TZID:America/Los_Angeles
X-LIC-LOCATION:America/Los_Angeles
BEGIN:DAYLIGHT
DTSTART:20260308T030000
TZOFFSETFROM:-0800
TZOFFSETTO:-0700
TZNAME:PDT
END:DAYLIGHT
END:VTIMEZONE
END:VCALENDAR