BEGIN:VCALENDAR
VERSION:2.0
PRODID:-//wp-events-plugin.com//7.2.3.1//EN
TZID:America/Los_Angeles
X-WR-TIMEZONE:America/Los_Angeles
BEGIN:VEVENT
UID:1360@cocsd.com
DTSTART;TZID=America/Los_Angeles;VALUE=DATE:20261003
DTEND;TZID=America/Los_Angeles;VALUE=DATE:20261004
DTSTAMP:20260219T010457Z
URL:https://cocsd.com/events/uss-iowa/
SUMMARY:USS Iowa 
DESCRIPTION:Saturday October 3th - USS Iowa                
            \n\nHosted by Bob Bearss\n\nMore information to come 
 later
ATTACH;FMTTYPE=image/jpeg:https://cocsd.com/wp-content/uploads/2026/02/uss
 -iowa.webp
CATEGORIES:COCSD Events
END:VEVENT
BEGIN:VTIMEZONE
TZID:America/Los_Angeles
X-LIC-LOCATION:America/Los_Angeles
BEGIN:DAYLIGHT
DTSTART:20260308T030000
TZOFFSETFROM:-0800
TZOFFSETTO:-0700
TZNAME:PDT
END:DAYLIGHT
END:VTIMEZONE
END:VCALENDAR